BEGIN:VCALENDAR
VERSION:2.0
PRODID:-//Geethanjali
CALSCALE:GREGORIAN
METHOD:PUBLISH
X-WR-CALNAME:Geethanjali
X-ORIGINAL-URL:https://gist.edu.in/gist/event/workshop-on-financial-planning-for-young-investors-at-gist/
X-WR-CALDESC:Workshop on  “Financial Planning for Young Investors” at GIST
BEGIN:VEVENT
DTSTART:
DTEND:
SUMMARY:Workshop on  “Financial Planning for Young Investors” at GIST
DESCRIPTION:Financial Planning for Young Investors
LOCATION:
END:VEVENT
END:VCALENDAR
