BEGIN:VCALENDAR
VERSION:2.0
PRODID:-//Geethanjali
CALSCALE:GREGORIAN
METHOD:PUBLISH
X-WR-CALNAME:Geethanjali
X-ORIGINAL-URL:https://gist.edu.in/gist/event/6975/
X-WR-CALDESC:Seven Day N.S.S Special Camp at PothiReddy Palem
BEGIN:VEVENT
DTSTART:
DTEND:
SUMMARY:Seven Day N.S.S Special Camp at PothiReddy Palem
DESCRIPTION:Special Camp
LOCATION:
END:VEVENT
END:VCALENDAR
