BEGIN:VCALENDAR
VERSION:2.0
PRODID:-//Geethanjali
CALSCALE:GREGORIAN
METHOD:PUBLISH
X-WR-CALNAME:Geethanjali
X-ORIGINAL-URL:https://gist.edu.in/gist/event/srujana2k17-national-level-symposium-at-gist/
X-WR-CALDESC:‘SRUJANA2K17’ -National level Symposium at GIST
BEGIN:VEVENT
DTSTART:
DTEND:
SUMMARY:‘SRUJANA2K17’ -National level Symposium at GIST
DESCRIPTION:National level Symposium at GIST
LOCATION:
END:VEVENT
END:VCALENDAR
