BEGIN:VCALENDAR
VERSION:2.0
PRODID:-//Geethanjali
CALSCALE:GREGORIAN
METHOD:PUBLISH
X-WR-CALNAME:Geethanjali
X-ORIGINAL-URL:https://gist.edu.in/gist/event/6954/
X-WR-CALDESC:GUEST LECTURE BY Mr.P.SREENIVAS REDDY
BEGIN:VEVENT
DTSTART:
DTEND:
SUMMARY:GUEST LECTURE BY Mr.P.SREENIVAS REDDY
DESCRIPTION:Guest Lecture-23<sup>th</sup>March,2017
LOCATION:
END:VEVENT
END:VCALENDAR
