BEGIN:VCALENDAR
VERSION:2.0
PRODID:-//Geethanjali
CALSCALE:GREGORIAN
METHOD:PUBLISH
X-WR-CALNAME:Geethanjali
X-ORIGINAL-URL:https://gist.edu.in/gist/event/gist-faculty-conferred-with-best-nss-programme-officer-award/
X-WR-CALDESC:Gist Faculty Conferred With Best NSS Programme Officer Award
BEGIN:VEVENT
DTSTART:
DTEND:
SUMMARY:Gist Faculty Conferred With Best NSS Programme Officer Award
DESCRIPTION:Best NSS PO
LOCATION:
END:VEVENT
END:VCALENDAR
