BEGIN:VCALENDAR
VERSION:2.0
PRODID:-//Geethanjali
CALSCALE:GREGORIAN
METHOD:PUBLISH
X-WR-CALNAME:Geethanjali
X-ORIGINAL-URL:https://gist.edu.in/gist/event/womens-day/
X-WR-CALDESC:Women&#8217;s Day
BEGIN:VEVENT
DTSTART:
DTEND:
SUMMARY:Women&#8217;s Day
DESCRIPTION:Women's Day Celebrations 
LOCATION:
END:VEVENT
END:VCALENDAR
