BEGIN:VCALENDAR
VERSION:2.0
PRODID:-//Geethanjali
CALSCALE:GREGORIAN
METHOD:PUBLISH
X-WR-CALNAME:Geethanjali
X-ORIGINAL-URL:https://gist.edu.in/gist/event/national-science-day-2017/
X-WR-CALDESC:National Science Day 2017
BEGIN:VEVENT
DTSTART:
DTEND:
SUMMARY:National Science Day 2017
DESCRIPTION:National Science Day on 28<sup>th</sup> Feb,2017
LOCATION:
END:VEVENT
END:VCALENDAR
