BEGIN:VCALENDAR
VERSION:2.0
PRODID:-//Geethanjali
CALSCALE:GREGORIAN
METHOD:PUBLISH
X-WR-CALNAME:Geethanjali
X-ORIGINAL-URL:https://gist.edu.in/gist/event/village-awareness-programme-on-digital-transactions/
X-WR-CALDESC:VILLAGE AWARENESS PROGRAMME ON DIGITAL TRANSACTIONS
BEGIN:VEVENT
DTSTART:
DTEND:
SUMMARY:VILLAGE AWARENESS PROGRAMME ON DIGITAL TRANSACTIONS
DESCRIPTION:Village Awareness Program on Digital Transactions-2017
LOCATION:
END:VEVENT
END:VCALENDAR
