BEGIN:VCALENDAR
VERSION:2.0
PRODID:-//Geethanjali
CALSCALE:GREGORIAN
METHOD:PUBLISH
X-WR-CALNAME:Geethanjali
X-ORIGINAL-URL:https://gist.edu.in/gist/event/national-womens-parliament/
X-WR-CALDESC:National Women&#8217;s Parliament
BEGIN:VEVENT
DTSTART:
DTEND:
SUMMARY:National Women&#8217;s Parliament
DESCRIPTION:National Women's Parliament-2017
LOCATION:
END:VEVENT
END:VCALENDAR
