BEGIN:VCALENDAR
VERSION:2.0
PRODID:-//Geethanjali
CALSCALE:GREGORIAN
METHOD:PUBLISH
X-WR-CALNAME:Geethanjali
X-ORIGINAL-URL:https://gist.edu.in/gist/event/a-one-day-national-symposium-on-diverse-applied-themes-in-science-humanities/
X-WR-CALDESC:A One-Day National Symposium on Diverse Applied Themes in Science &#038; Humanities
BEGIN:VEVENT
DTSTART:
DTEND:
SUMMARY:A One-Day National Symposium on Diverse Applied Themes in Science &#038; Humanities
DESCRIPTION:SRUJANA-2K17 on 25<sup>th</sup> March, 2017
LOCATION:
END:VEVENT
END:VCALENDAR
