BEGIN:VCALENDAR
VERSION:2.0
PRODID:-//Geethanjali
CALSCALE:GREGORIAN
METHOD:PUBLISH
X-WR-CALNAME:Geethanjali
X-ORIGINAL-URL:https://gist.edu.in/gist/event/hackathon-and-ideathon-contest-2017/
X-WR-CALDESC:HACKATHON AND IDEATHON CONTEST 2017
BEGIN:VEVENT
DTSTART:
DTEND:
SUMMARY:HACKATHON AND IDEATHON CONTEST 2017
DESCRIPTION:HACKATHON AND IDEATHON  2017
LOCATION:
END:VEVENT
END:VCALENDAR
