BEGIN:VCALENDAR
VERSION:2.0
PRODID:-//Geethanjali
CALSCALE:GREGORIAN
METHOD:PUBLISH
X-WR-CALNAME:Geethanjali
X-ORIGINAL-URL:https://gist.edu.in/gist/event/industrial-visit-to-sri-damodaram-sanjeevaiah-thermal-power-station-nelatur/
X-WR-CALDESC:Industrial Visit to Sri Damodaram Sanjeevaiah Thermal Power Station, Nelatur
BEGIN:VEVENT
DTSTART:
DTEND:
SUMMARY:Industrial Visit to Sri Damodaram Sanjeevaiah Thermal Power Station, Nelatur
DESCRIPTION:Industrial Visit
LOCATION:
END:VEVENT
END:VCALENDAR
