BEGIN:VCALENDAR
VERSION:2.0
PRODID:-//Geethanjali
CALSCALE:GREGORIAN
METHOD:PUBLISH
X-WR-CALNAME:Geethanjali
X-ORIGINAL-URL:https://gist.edu.in/gist/event/symposium-for-i-b-tech-students/
X-WR-CALDESC:Symposium for I.B.Tech students
BEGIN:VEVENT
DTSTART:
DTEND:
SUMMARY:Symposium for I.B.Tech students
DESCRIPTION:Awareness Program on Communication Skills on 21.01.2017
LOCATION:
END:VEVENT
END:VCALENDAR
