BEGIN:VCALENDAR
VERSION:2.0
PRODID:-//Geethanjali
CALSCALE:GREGORIAN
METHOD:PUBLISH
X-WR-CALNAME:Geethanjali
X-ORIGINAL-URL:https://gist.edu.in/gist/event/yuvajana-mahotsavalu/
X-WR-CALDESC:YUVAJANA MAHOTSAVALU
BEGIN:VEVENT
DTSTART:
DTEND:
SUMMARY:YUVAJANA MAHOTSAVALU
DESCRIPTION:YUVAJANA MAHOTSAVALU @ 30-01-2017
LOCATION:
END:VEVENT
END:VCALENDAR
