BEGIN:VCALENDAR
VERSION:2.0
PRODID:-//Geethanjali
CALSCALE:GREGORIAN
METHOD:PUBLISH
X-WR-CALNAME:Geethanjali
X-ORIGINAL-URL:https://gist.edu.in/gist/event/jntua-affliated-chittor-and-spsr-nellore-district-level-youth-festival/
X-WR-CALDESC:JNTUA AFFILIATED CHITTOR AND SPSR NELLORE DISTRICT LEVEL YOUTH FESTIVAL
BEGIN:VEVENT
DTSTART:
DTEND:
SUMMARY:JNTUA AFFILIATED CHITTOR AND SPSR NELLORE DISTRICT LEVEL YOUTH FESTIVAL
DESCRIPTION:Youth Fest at GIST
LOCATION:
END:VEVENT
END:VCALENDAR
