BEGIN:VCALENDAR
VERSION:2.0
PRODID:-//Geethanjali
CALSCALE:GREGORIAN
METHOD:PUBLISH
X-WR-CALNAME:Geethanjali
X-ORIGINAL-URL:https://gist.edu.in/gist/event/quiz-competition-conducted-by-ece-department-under-vision-of-electronics-voe-on-jan-11th-2017/
X-WR-CALDESC:Quiz Competition Conducted by ECE Department under Vision of Electronics (VOE) on Jan 11th 2017
BEGIN:VEVENT
DTSTART:
DTEND:
SUMMARY:Quiz Competition Conducted by ECE Department under Vision of Electronics (VOE) on Jan 11th 2017
DESCRIPTION:Quiz Competition on Jan 11th 2017
LOCATION:
END:VEVENT
END:VCALENDAR
