BEGIN:VCALENDAR
VERSION:2.0
PRODID:-//Geethanjali
CALSCALE:GREGORIAN
METHOD:PUBLISH
X-WR-CALNAME:Geethanjali
X-ORIGINAL-URL:https://gist.edu.in/gist/event/pre-pongal-celebrations-at-gist/
X-WR-CALDESC:PRE-PONGAL CELEBRATIONS AT GIST
BEGIN:VEVENT
DTSTART:
DTEND:
SUMMARY:PRE-PONGAL CELEBRATIONS AT GIST
DESCRIPTION:Celebrations @ GIST
LOCATION:
END:VEVENT
END:VCALENDAR
