BEGIN:VCALENDAR
VERSION:2.0
PRODID:-//Geethanjali
CALSCALE:GREGORIAN
METHOD:PUBLISH
X-WR-CALNAME:Geethanjali
X-ORIGINAL-URL:https://gist.edu.in/gist/event/swachh-bharath-programme-at-gist/
X-WR-CALDESC:SWACHH BHARATH PROGRAMME AT GIST
BEGIN:VEVENT
DTSTART:
DTEND:
SUMMARY:SWACHH BHARATH PROGRAMME AT GIST
DESCRIPTION:Swatchh Bharath program at GIST on Saturday 07.01.2017
LOCATION:
END:VEVENT
END:VCALENDAR
