BEGIN:VCALENDAR
VERSION:2.0
PRODID:-//Geethanjali
CALSCALE:GREGORIAN
METHOD:PUBLISH
X-WR-CALNAME:Geethanjali
X-ORIGINAL-URL:https://gist.edu.in/gist/event/two-day-workshop-on-hands-on-vlsi-design/
X-WR-CALDESC:TWO DAY WORKSHOP ON HANDS ON VLSI DESIGN
BEGIN:VEVENT
DTSTART:
DTEND:
SUMMARY:TWO DAY WORKSHOP ON HANDS ON VLSI DESIGN
DESCRIPTION:Dept. of ECE organised two day workshop on VLSI Design on 6th and 7th January 2017
LOCATION:
END:VEVENT
END:VCALENDAR
