BEGIN:VCALENDAR
VERSION:2.0
PRODID:-//Geethanjali
CALSCALE:GREGORIAN
METHOD:PUBLISH
X-WR-CALNAME:Geethanjali
X-ORIGINAL-URL:https://gist.edu.in/gist/event/awareness-on-cashless-transaction/
X-WR-CALDESC:Awareness on Cashless Transaction
BEGIN:VEVENT
DTSTART:
DTEND:
SUMMARY:Awareness on Cashless Transaction
DESCRIPTION:Awareness on cashless transaction
LOCATION:
END:VEVENT
END:VCALENDAR
