BEGIN:VCALENDAR
VERSION:2.0
PRODID:-//Geethanjali
CALSCALE:GREGORIAN
METHOD:PUBLISH
X-WR-CALNAME:Geethanjali
X-ORIGINAL-URL:https://gist.edu.in/gist/event/industrial-visit-to-shar-2016/
X-WR-CALDESC:Industrial Visit to SHAR-2016
BEGIN:VEVENT
DTSTART:
DTEND:
SUMMARY:Industrial Visit to SHAR-2016
DESCRIPTION:Industrial visit-2016
LOCATION:
END:VEVENT
END:VCALENDAR
