BEGIN:VCALENDAR
VERSION:2.0
PRODID:-//Geethanjali
CALSCALE:GREGORIAN
METHOD:PUBLISH
X-WR-CALNAME:Geethanjali
X-ORIGINAL-URL:https://gist.edu.in/gist/event/pc-received-list-on-27102016/
X-WR-CALDESC:PC RECEIVED LIST  ON 27/10/2016
BEGIN:VEVENT
DTSTART:
DTEND:
SUMMARY:PC RECEIVED LIST  ON 27/10/2016
DESCRIPTION:PC LIST
LOCATION:
END:VEVENT
END:VCALENDAR
