BEGIN:VCALENDAR
VERSION:2.0
PRODID:-//Geethanjali
CALSCALE:GREGORIAN
METHOD:PUBLISH
X-WR-CALNAME:Geethanjali
X-ORIGINAL-URL:https://gist.edu.in/gist/event/theme-writing-contest-on-the-occasion-of-ieee-day-2016-celebrations-2/
X-WR-CALDESC:DR. A.P.J. ABDUL KALAM 85TH BIRTH ANNIVERSARY CELEBRATIONS
BEGIN:VEVENT
DTSTART:
DTEND:
SUMMARY:DR. A.P.J. ABDUL KALAM 85TH BIRTH ANNIVERSARY CELEBRATIONS
DESCRIPTION:International Students Day Celebrations at GIST
LOCATION:
END:VEVENT
END:VCALENDAR
