BEGIN:VCALENDAR
VERSION:2.0
PRODID:-//Geethanjali
CALSCALE:GREGORIAN
METHOD:PUBLISH
X-WR-CALNAME:Geethanjali
X-ORIGINAL-URL:https://gist.edu.in/gist/event/theme-writing-contest-on-the-occasion-of-ieee-day-2016-celebrations/
X-WR-CALDESC:THEME WRITING CONTEST ON THE OCCASION OF IEEE DAY 2016 CELEBRATIONS
BEGIN:VEVENT
DTSTART:
DTEND:
SUMMARY:THEME WRITING CONTEST ON THE OCCASION OF IEEE DAY 2016 CELEBRATIONS
DESCRIPTION:IEEE DAY 2016 CELEBRATIONS
LOCATION:
END:VEVENT
END:VCALENDAR
