BEGIN:VCALENDAR
VERSION:2.0
PRODID:-//Geethanjali
CALSCALE:GREGORIAN
METHOD:PUBLISH
X-WR-CALNAME:Geethanjali
X-ORIGINAL-URL:https://gist.edu.in/gist/event/photo-with-mphasis-selected-students-of-2017-batch/
X-WR-CALDESC:PHOTO WITH MPHASIS SELECTED STUDENTS OF 2017 BATCH
BEGIN:VEVENT
DTSTART:
DTEND:
SUMMARY:PHOTO WITH MPHASIS SELECTED STUDENTS OF 2017 BATCH
DESCRIPTION:MPHASIS SELECTED STUDENTS OF 2017 BATCH
LOCATION:
END:VEVENT
END:VCALENDAR
