BEGIN:VCALENDAR
VERSION:2.0
PRODID:-//Geethanjali
CALSCALE:GREGORIAN
METHOD:PUBLISH
X-WR-CALNAME:Geethanjali
X-ORIGINAL-URL:https://gist.edu.in/gist/event/c-debugging/
X-WR-CALDESC:C Debugging
BEGIN:VEVENT
DTSTART:20160922T000000
DTEND:20160922T000000
SUMMARY:C Debugging
DESCRIPTION:Department of CSE conducted C Debugging event on 22-09-2016.
LOCATION:
END:VEVENT
END:VCALENDAR
