BEGIN:VCALENDAR
VERSION:2.0
PRODID:-//Geethanjali
CALSCALE:GREGORIAN
METHOD:PUBLISH
X-WR-CALNAME:Geethanjali
X-ORIGINAL-URL:https://gist.edu.in/gist/event/photo-with-tech-mahindra-selected-students-of-2017-batch/
X-WR-CALDESC:TECH MAHINDRA SELECTED STUDENTS OF 2013-17 BATCH
BEGIN:VEVENT
DTSTART:
DTEND:
SUMMARY:TECH MAHINDRA SELECTED STUDENTS OF 2013-17 BATCH
DESCRIPTION:2013-17 batch
LOCATION:
END:VEVENT
END:VCALENDAR
