BEGIN:VCALENDAR
VERSION:2.0
PRODID:-//Geethanjali
CALSCALE:GREGORIAN
METHOD:PUBLISH
X-WR-CALNAME:Geethanjali
X-ORIGINAL-URL:https://gist.edu.in/gist/event/mass-national-anthem-at-gist/
X-WR-CALDESC:Mass National Anthem at GIST
BEGIN:VEVENT
DTSTART:
DTEND:
SUMMARY:Mass National Anthem at GIST
DESCRIPTION:Mass National Anthem at GIST
LOCATION:
END:VEVENT
END:VCALENDAR
