BEGIN:VCALENDAR
VERSION:2.0
PRODID:-//Geethanjali
CALSCALE:GREGORIAN
METHOD:PUBLISH
X-WR-CALNAME:Geethanjali
X-ORIGINAL-URL:https://gist.edu.in/gist/event/tech-mahindra-on-campus-recruitment-drive-for-2017-batch/
X-WR-CALDESC:TECH MAHINDRA ON CAMPUS RECRUITMENT DRIVE FOR 2017 BATCH
BEGIN:VEVENT
DTSTART:
DTEND:
SUMMARY:TECH MAHINDRA ON CAMPUS RECRUITMENT DRIVE FOR 2017 BATCH
DESCRIPTION:TECH MAHINDRA ON CAMPUS RECRUITMENT DRIVE FOR 2017 BATCH
LOCATION:
END:VEVENT
END:VCALENDAR
