BEGIN:VCALENDAR
VERSION:2.0
PRODID:-//Geethanjali
CALSCALE:GREGORIAN
METHOD:PUBLISH
X-WR-CALNAME:Geethanjali
X-ORIGINAL-URL:https://gist.edu.in/gist/event/gist-students-shine-in-webinar-online-exam/
X-WR-CALDESC:GIST STUDENTS SHINE IN WEBINAR ONLINE EXAM
BEGIN:VEVENT
DTSTART:
DTEND:
SUMMARY:GIST STUDENTS SHINE IN WEBINAR ONLINE EXAM
DESCRIPTION:GIST Students shine in Webinar Online Exam


LOCATION:
END:VEVENT
END:VCALENDAR
