BEGIN:VCALENDAR
VERSION:2.0
PRODID:-//Geethanjali
CALSCALE:GREGORIAN
METHOD:PUBLISH
X-WR-CALNAME:Geethanjali
X-ORIGINAL-URL:https://gist.edu.in/gist/event/industry-institute-interaction-programme/
X-WR-CALDESC:INDUSTRY INSTITUTE INTERACTION BY EXCELENCIA I TECH CONSULTING ON 4th AUG 2016
BEGIN:VEVENT
DTSTART:
DTEND:
SUMMARY:INDUSTRY INSTITUTE INTERACTION BY EXCELENCIA I TECH CONSULTING ON 4th AUG 2016
DESCRIPTION:Industry Institute Interaction Programme
LOCATION:
END:VEVENT
END:VCALENDAR
