BEGIN:VCALENDAR
VERSION:2.0
PRODID:-//Geethanjali
CALSCALE:GREGORIAN
METHOD:PUBLISH
X-WR-CALNAME:Geethanjali
X-ORIGINAL-URL:https://gist.edu.in/gist/event/ncatcsit-2016/
X-WR-CALDESC:NCATCSIT 2016
BEGIN:VEVENT
DTSTART:
DTEND:
SUMMARY:NCATCSIT 2016
DESCRIPTION:A National Conference on Advanced Trends in Computer Science & Information Technology-2016
LOCATION:
END:VEVENT
END:VCALENDAR
