BEGIN:VCALENDAR
VERSION:2.0
PRODID:-//Geethanjali
CALSCALE:GREGORIAN
METHOD:PUBLISH
X-WR-CALNAME:Geethanjali
X-ORIGINAL-URL:https://gist.edu.in/gist/event/communication-and-presentation-skills-training-sessions-for-i-b-tech-students-at-gist/
X-WR-CALDESC:COMMUNICATION AND PRESENTATION SKILLS TRAINING SESSIONS For I.B.Tech Students at GIST
BEGIN:VEVENT
DTSTART:
DTEND:
SUMMARY:COMMUNICATION AND PRESENTATION SKILLS TRAINING SESSIONS For I.B.Tech Students at GIST
DESCRIPTION:communication and presentation skills training sessions
LOCATION:
END:VEVENT
END:VCALENDAR
