BEGIN:VCALENDAR
VERSION:2.0
PRODID:-//Geethanjali
CALSCALE:GREGORIAN
METHOD:PUBLISH
X-WR-CALNAME:Geethanjali
X-ORIGINAL-URL:https://gist.edu.in/gist/event/three-day-workshop-on-antenna-design-with-hfss-software/
X-WR-CALDESC:Three day Workshop on Antenna Design with HFSS Software
BEGIN:VEVENT
DTSTART:
DTEND:
SUMMARY:Three day Workshop on Antenna Design with HFSS Software
DESCRIPTION:Three day Workshop on Antenna Design with HFSS Software
LOCATION:
END:VEVENT
END:VCALENDAR
