BEGIN:VCALENDAR
VERSION:2.0
PRODID:-//Geethanjali
CALSCALE:GREGORIAN
METHOD:PUBLISH
X-WR-CALNAME:Geethanjali
X-ORIGINAL-URL:https://gist.edu.in/gist/event/guest-lecturer-on-advanced-ic-engines-generator-applications/
X-WR-CALDESC:GUEST LECTURER ON ADVANCED IC ENGINES – GENERATOR APPLICATIONS
BEGIN:VEVENT
DTSTART:
DTEND:
SUMMARY:GUEST LECTURER ON ADVANCED IC ENGINES – GENERATOR APPLICATIONS
DESCRIPTION:GUEST LECTURER ON ADVANCED IC ENGINES – GENERATOR APPLICATIONS
LOCATION:
END:VEVENT
END:VCALENDAR
