BEGIN:VCALENDAR
VERSION:2.0
PRODID:-//Geethanjali
CALSCALE:GREGORIAN
METHOD:PUBLISH
X-WR-CALNAME:Geethanjali
X-ORIGINAL-URL:https://gist.edu.in/gist/event/industry-visit-to-shatish-dawn-space-center-sdsc-shar-sriharikota/
X-WR-CALDESC:INDUSTRY VISIT to SHATISH DAWN SPACE CENTER (SDSC) SHAR, SRIHARIKOTA
BEGIN:VEVENT
DTSTART:
DTEND:
SUMMARY:INDUSTRY VISIT to SHATISH DAWN SPACE CENTER (SDSC) SHAR, SRIHARIKOTA
DESCRIPTION:INDUSTRY VISIT to SHATISH DAWN SPACE CENTER (SDSC) SHAR, SRIHARIKOTA
LOCATION:
END:VEVENT
END:VCALENDAR
