BEGIN:VCALENDAR
VERSION:2.0
PRODID:-//Geethanjali
CALSCALE:GREGORIAN
METHOD:PUBLISH
X-WR-CALNAME:Geethanjali
X-ORIGINAL-URL:https://gist.edu.in/gist/event/5712/
X-WR-CALDESC:Project Expo
BEGIN:VEVENT
DTSTART:
DTEND:
SUMMARY:Project Expo
DESCRIPTION:Project Expo @ GIST
LOCATION:
END:VEVENT
END:VCALENDAR
