BEGIN:VCALENDAR
VERSION:2.0
PRODID:-//Geethanjali
CALSCALE:GREGORIAN
METHOD:PUBLISH
X-WR-CALNAME:Geethanjali
X-ORIGINAL-URL:https://gist.edu.in/gist/event/orientation-programme-held-on-a-grand-scale-at-gist/
X-WR-CALDESC:Orientation Programme Held on a Grand Scale at GIST
BEGIN:VEVENT
DTSTART:20160630T000000
DTEND:20160630T000000
SUMMARY:Orientation Programme Held on a Grand Scale at GIST
DESCRIPTION:Orientation Program for Freshers 2016
LOCATION:GIST
END:VEVENT
END:VCALENDAR
