BEGIN:VCALENDAR
VERSION:2.0
PRODID:-//Geethanjali
CALSCALE:GREGORIAN
METHOD:PUBLISH
X-WR-CALNAME:Geethanjali
X-ORIGINAL-URL:https://gist.edu.in/gist/event/one-day-workshop-on-outcome-based-education-of-nba/
X-WR-CALDESC:A One Day Workshop on Outcome Based Education of NBA
BEGIN:VEVENT
DTSTART:20160624T000000
DTEND:20160624T000000
SUMMARY:A One Day Workshop on Outcome Based Education of NBA
DESCRIPTION:One Day Workshop on Outcome Based Education of NBA
LOCATION:GIST Digital Hall
END:VEVENT
END:VCALENDAR
