BEGIN:VCALENDAR
VERSION:2.0
PRODID:-//Geethanjali
CALSCALE:GREGORIAN
METHOD:PUBLISH
X-WR-CALNAME:Geethanjali
X-ORIGINAL-URL:https://gist.edu.in/gist/event/a-two-day-faculty-development-program-on-outcome-based-education-system-values-of-nba/
X-WR-CALDESC:A Two Day Faculty Development Program on Outcome Based Education System &#038; Values of NBA
BEGIN:VEVENT
DTSTART:20160620T000000
DTEND:20160721T000000
SUMMARY:A Two Day Faculty Development Program on Outcome Based Education System &#038; Values of NBA
DESCRIPTION:A Two Day Faculty Development Program on Outcome Based Education System & Values of NBA
LOCATION:Meenakshi College of Engineering, Chennai
END:VEVENT
END:VCALENDAR
