BEGIN:VCALENDAR
VERSION:2.0
PRODID:-//Geethanjali
CALSCALE:GREGORIAN
METHOD:PUBLISH
X-WR-CALNAME:Geethanjali
X-ORIGINAL-URL:https://gist.edu.in/gist/event/freshers-day/
X-WR-CALDESC:Freshers Day
BEGIN:VEVENT
DTSTART:20141101T000000
DTEND:20141101T000000
SUMMARY:Freshers Day
DESCRIPTION:Fresher's Day
LOCATION:
END:VEVENT
END:VCALENDAR
