BEGIN:VCALENDAR
VERSION:2.0
PRODID:-//Geethanjali
CALSCALE:GREGORIAN
METHOD:PUBLISH
X-WR-CALNAME:Geethanjali
X-ORIGINAL-URL:https://gist.edu.in/gist/event/industrial-visit-to-shar/
X-WR-CALDESC:Industrial Visit to SHAR
BEGIN:VEVENT
DTSTART:20141127T000000
DTEND:20141127T000000
SUMMARY:Industrial Visit to SHAR
DESCRIPTION:
LOCATION:
END:VEVENT
END:VCALENDAR
