BEGIN:VCALENDAR
VERSION:2.0
PRODID:-//Geethanjali
CALSCALE:GREGORIAN
METHOD:PUBLISH
X-WR-CALNAME:Geethanjali
X-ORIGINAL-URL:https://gist.edu.in/gist/event/industrial-visit-srisailam/
X-WR-CALDESC:INDUSTRIAL VISIT SRISAILAM
BEGIN:VEVENT
DTSTART:20150820T000000
DTEND:20150820T000000
SUMMARY:INDUSTRIAL VISIT SRISAILAM
DESCRIPTION:
LOCATION:
END:VEVENT
END:VCALENDAR
