BEGIN:VCALENDAR
VERSION:2.0
PRODID:-//Geethanjali
CALSCALE:GREGORIAN
METHOD:PUBLISH
X-WR-CALNAME:Geethanjali
X-ORIGINAL-URL:https://gist.edu.in/gist/event/workshop-on-engineering-physics/
X-WR-CALDESC:Workshop on Engineering Physics
BEGIN:VEVENT
DTSTART:20151208T090000
DTEND:20151218T170000
SUMMARY:Workshop on Engineering Physics
DESCRIPTION:
LOCATION:
END:VEVENT
END:VCALENDAR
