BEGIN:VCALENDAR
VERSION:2.0
PRODID:-//Geethanjali
CALSCALE:GREGORIAN
METHOD:PUBLISH
X-WR-CALNAME:Geethanjali
X-ORIGINAL-URL:https://gist.edu.in/gist/event/workshop-on-environmental-science/
X-WR-CALDESC:Workshop on Environmental Science
BEGIN:VEVENT
DTSTART:20150602T090000
DTEND:20150612T170000
SUMMARY:Workshop on Environmental Science
DESCRIPTION:
LOCATION:
END:VEVENT
END:VCALENDAR
