BEGIN:VCALENDAR
VERSION:2.0
PRODID:-//Geethanjali
CALSCALE:GREGORIAN
METHOD:PUBLISH
X-WR-CALNAME:Geethanjali
X-ORIGINAL-URL:https://gist.edu.in/gist/event/induction-and-orientation-programme-of-i-b-tech-students/
X-WR-CALDESC:Induction and Orientation programme of I B Tech students
BEGIN:VEVENT
DTSTART:20150702T000000
DTEND:20150702T000000
SUMMARY:Induction and Orientation programme of I B Tech students
DESCRIPTION:
LOCATION:
END:VEVENT
END:VCALENDAR
