BEGIN:VCALENDAR
VERSION:2.0
PRODID:-//Geethanjali
CALSCALE:GREGORIAN
METHOD:PUBLISH
X-WR-CALNAME:Geethanjali
X-ORIGINAL-URL:https://gist.edu.in/gist/event/blood-donation-camp-inauguration-ethical-voting-awareness/
X-WR-CALDESC:Blood Donation Camp Inauguration &#038; Ethical Voting Awareness
BEGIN:VEVENT
DTSTART:
DTEND:
SUMMARY:Blood Donation Camp Inauguration &#038; Ethical Voting Awareness
DESCRIPTION:
LOCATION:
END:VEVENT
END:VCALENDAR
