BEGIN:VCALENDAR
VERSION:2.0
PRODID:-//Geethanjali
CALSCALE:GREGORIAN
METHOD:PUBLISH
X-WR-CALNAME:Geethanjali
X-ORIGINAL-URL:https://gist.edu.in/gist/event/4259/
X-WR-CALDESC:NSS Special Camp,February 2014
BEGIN:VEVENT
DTSTART:
DTEND:
SUMMARY:NSS Special Camp,February 2014
DESCRIPTION:Special Camp
LOCATION:
END:VEVENT
END:VCALENDAR
