BEGIN:VCALENDAR
VERSION:2.0
PRODID:-//Geethanjali
CALSCALE:GREGORIAN
METHOD:PUBLISH
X-WR-CALNAME:Geethanjali
X-ORIGINAL-URL:https://gist.edu.in/gist/event/state-level-seminar-on-unity-in-diversity/
X-WR-CALDESC:State level seminar on unity in diversity
BEGIN:VEVENT
DTSTART:
DTEND:
SUMMARY:State level seminar on unity in diversity
DESCRIPTION:
LOCATION:
END:VEVENT
END:VCALENDAR
