BEGIN:VCALENDAR
VERSION:2.0
PRODID:-//Geethanjali
CALSCALE:GREGORIAN
METHOD:PUBLISH
X-WR-CALNAME:Geethanjali
X-ORIGINAL-URL:https://gist.edu.in/gist/event/industrial-vistit/
X-WR-CALDESC:Industrial Visit to Vizag Steel Plant
BEGIN:VEVENT
DTSTART:
DTEND:
SUMMARY:Industrial Visit to Vizag Steel Plant
DESCRIPTION:Industrial Visit
LOCATION:
END:VEVENT
END:VCALENDAR
